BEGIN:VCALENDAR
VERSION:2.0
PRODID:-//MantraDhwani - ECPv6.15.12.1//NONSGML v1.0//EN
CALSCALE:GREGORIAN
METHOD:PUBLISH
X-WR-CALNAME:MantraDhwani
X-ORIGINAL-URL:https://mantradhwani.com
X-WR-CALDESC:Events for MantraDhwani
REFRESH-INTERVAL;VALUE=DURATION:PT1H
X-Robots-Tag:noindex
X-PUBLISHED-TTL:PT1H
BEGIN:VTIMEZONE
TZID:UTC
BEGIN:STANDARD
TZOFFSETFROM:+0000
TZOFFSETTO:+0000
TZNAME:UTC
DTSTART:20230101T000000
END:STANDARD
END:VTIMEZONE
BEGIN:VEVENT
DTSTART;TZID=UTC:20240324T113000
DTEND;TZID=UTC:20240331T120000
DTSTAMP:20260421T122711
CREATED:20231209T184402Z
LAST-MODIFIED:20240316T071636Z
UID:140202-1711279800-1711886400@mantradhwani.com
SUMMARY:Premium
DESCRIPTION:7 nights and 8 days Itinerary –\nCheck in on 24th March and check out on 31st march afternoon.\n\n\nThis includes Group Lunch Buffet and Group Dinner buffet.
URL:https://mantradhwani.com/event/premium/
ATTACH;FMTTYPE=image/jpeg:https://mantradhwani.com/wp-content/uploads/2023/11/cropped-Logo-New-4.jpeg
END:VEVENT
BEGIN:VEVENT
DTSTART;TZID=UTC:20240324T113000
DTEND;TZID=UTC:20240331T120000
DTSTAMP:20260421T122711
CREATED:20231209T183952Z
LAST-MODIFIED:20240316T071712Z
UID:140195-1711279800-1711886400@mantradhwani.com
SUMMARY:Triple sharing
DESCRIPTION:7 nights and 8 days Itinerary – Check in on 24th March and check out on 31st march afternoon.\n\n\nThis includes Group Lunch Buffet and Group Dinner buffet.
URL:https://mantradhwani.com/event/triple-sharing/
ATTACH;FMTTYPE=image/jpeg:https://mantradhwani.com/wp-content/uploads/2023/11/cropped-Logo-New-4.jpeg
END:VEVENT
BEGIN:VEVENT
DTSTART;TZID=UTC:20240324T103000
DTEND;TZID=UTC:20240331T120000
DTSTAMP:20260421T122711
CREATED:20231209T184207Z
LAST-MODIFIED:20240316T071744Z
UID:140199-1711276200-1711886400@mantradhwani.com
SUMMARY:Double sharing
DESCRIPTION:7 nights and 8 days Itinerary –\nCheck in on 24th March and check out on 31st march afternoon.\n\n\nThis includes Group Lunch Buffet and Group Dinner buffet.
URL:https://mantradhwani.com/event/double-sharing/
ATTACH;FMTTYPE=image/jpeg:https://mantradhwani.com/wp-content/uploads/2023/11/cropped-Logo-New-4.jpeg
END:VEVENT
END:VCALENDAR